BEGIN:VCALENDAR
VERSION:2.0
PRODID:-//RefugeRoot Foundation of Canada - ECPv6.15.20//NONSGML v1.0//EN
CALSCALE:GREGORIAN
METHOD:PUBLISH
X-WR-CALNAME:RefugeRoot Foundation of Canada
X-ORIGINAL-URL:https://refugeroot.ca
X-WR-CALDESC:Events for RefugeRoot Foundation of Canada
REFRESH-INTERVAL;VALUE=DURATION:PT1H
X-Robots-Tag:noindex
X-PUBLISHED-TTL:PT1H
BEGIN:VTIMEZONE
TZID:Africa/Porto-Novo
BEGIN:STANDARD
TZOFFSETFROM:+0100
TZOFFSETTO:+0100
TZNAME:WAT
DTSTART:20250101T000000
END:STANDARD
END:VTIMEZONE
BEGIN:VEVENT
DTSTART;TZID=Africa/Porto-Novo:20260705T120000
DTEND;TZID=Africa/Porto-Novo:20260705T150000
DTSTAMP:20260419T134215
CREATED:20260204T172344Z
LAST-MODIFIED:20260204T172844Z
UID:8747-1783252800-1783263600@refugeroot.ca
SUMMARY:Launch of the Kpokissa's Farm
DESCRIPTION:RefugeRoot is proud to mark an important milestone in Kpokissa (Sèzoumey): the official start of our farm project. This launch begins with the preparation of the land—clearing\, leveling\, and organizing the site—followed by the digging of fish ponds that will soon support our aquaculture activities. These first steps lay the foundation for a sustainable farm that will help strengthen local food security\, create jobs\, and generate long-term impact for the community.
URL:https://refugeroot.ca/event/launch-of-the-kpokissas-farm/
END:VEVENT
END:VCALENDAR