BEGIN:VCALENDAR
VERSION:2.0
PRODID:-//RefugeRoot Foundation of Canada - ECPv6.15.20//NONSGML v1.0//EN
CALSCALE:GREGORIAN
METHOD:PUBLISH
X-ORIGINAL-URL:https://refugeroot.ca
X-WR-CALDESC:Events for RefugeRoot Foundation of Canada
REFRESH-INTERVAL;VALUE=DURATION:PT1H
X-Robots-Tag:noindex
X-PUBLISHED-TTL:PT1H
BEGIN:VTIMEZONE
TZID:Africa/Lome
BEGIN:STANDARD
TZOFFSETFROM:+0000
TZOFFSETTO:+0000
TZNAME:GMT
DTSTART:20250101T000000
END:STANDARD
END:VTIMEZONE
BEGIN:VEVENT
DTSTART;TZID=Africa/Lome:20260621T100000
DTEND;TZID=Africa/Lome:20260621T233000
DTSTAMP:20260419T123555
CREATED:20260204T173710Z
LAST-MODIFIED:20260204T173710Z
UID:8749-1782036000-1782084600@refugeroot.ca
SUMMARY:Children's Music Center of Lome
DESCRIPTION:Children’s Music Center of Lomé (CMCL) is a RefugeRoot initiative based in Lomé\, Togo\, created to offer free music education to children in need living in different children’s homes across the country.\nThrough this program\, RefugeRoot helps children discover music in a safe and encouraging environment—starting with the basics of music (rhythm\, notes\, listening\, and musical expression) and progressing to piano lessons.\nMore than learning an instrument\, CMCL is about building confidence\, discipline\, creativity\, and hope. By opening access to quality musical training\, the project aims to nurture talent\, support emotional well-being\, and give every child the chance to grow through art—regardless of their background.
URL:https://refugeroot.ca/event/childrens-music-center-of-lome/
END:VEVENT
END:VCALENDAR