BEGIN:VCALENDAR
VERSION:2.0
PRODID:-//RefugeRoot Foundation of Canada - ECPv6.15.20//NONSGML v1.0//EN
CALSCALE:GREGORIAN
METHOD:PUBLISH
X-WR-CALNAME:RefugeRoot Foundation of Canada
X-ORIGINAL-URL:https://refugeroot.ca
X-WR-CALDESC:Events for RefugeRoot Foundation of Canada
REFRESH-INTERVAL;VALUE=DURATION:PT1H
X-Robots-Tag:noindex
X-PUBLISHED-TTL:PT1H
BEGIN:VTIMEZONE
TZID:Africa/Porto-Novo
BEGIN:STANDARD
TZOFFSETFROM:+0100
TZOFFSETTO:+0100
TZNAME:WAT
DTSTART:20250101T000000
END:STANDARD
END:VTIMEZONE
BEGIN:VEVENT
DTSTART;TZID=Africa/Porto-Novo:20260614T140000
DTEND;TZID=Africa/Porto-Novo:20260614T180000
DTSTAMP:20260419T091753
CREATED:20260204T165852Z
LAST-MODIFIED:20260214T154743Z
UID:8739-1781445600-1781460000@refugeroot.ca
SUMMARY:Segbohoue Farm Launch
DESCRIPTION:RefugeRoot is proud to mark an important milestone in Sègbohouè: the official start of our farm project. This launch begins with the preparation of the land—clearing\, leveling\, and organizing the site—followed by the digging of fish ponds that will soon support our aquaculture activities. These first steps lay the foundation for a sustainable farm that will help strengthen local food security\, create jobs\, and generate long-term impact for the community.
URL:https://refugeroot.ca/event/segbohoue-farm-launch/
LOCATION:RefugeRoot Benin projects\, Segbohoué\, Bénin\, Segbohouè\, Benin
ATTACH;FMTTYPE=image/jpeg:https://refugeroot.ca/wp-content/uploads/2026/02/ponds.jpg
ORGANIZER;CN="RefugeRoot Benin":MAILTO:info@refugeroot.ca
END:VEVENT
END:VCALENDAR