BEGIN:VCALENDAR
VERSION:2.0
PRODID:-//RefugeRoot Foundation of Canada - ECPv6.15.20//NONSGML v1.0//EN
CALSCALE:GREGORIAN
METHOD:PUBLISH
X-WR-CALNAME:RefugeRoot Foundation of Canada
X-ORIGINAL-URL:https://refugeroot.ca/?lang=sv
X-WR-CALDESC:Händelser för RefugeRoot Foundation of Canada
REFRESH-INTERVAL;VALUE=DURATION:PT1H
X-Robots-Tag:noindex
X-PUBLISHED-TTL:PT1H
BEGIN:VTIMEZONE
TZID:Africa/Porto-Novo
BEGIN:STANDARD
TZOFFSETFROM:+0100
TZOFFSETTO:+0100
TZNAME:WAT
DTSTART:20250101T000000
END:STANDARD
END:VTIMEZONE
BEGIN:VEVENT
DTSTART;TZID=Africa/Porto-Novo:20260714T080000
DTEND;TZID=Africa/Porto-Novo:20260714T170000
DTSTAMP:20260421T091353
CREATED:20260204T170730Z
LAST-MODIFIED:20260204T170730Z
UID:9594-1784016000-1784048400@refugeroot.ca
SUMMARY:Ingrid Wallins Barnhem (IWCH)
DESCRIPTION:Ingrid Wallins Barnhem (IWCH) är ett initiativ från RefugeRoot Benin\, dedikerat till barn i nöd i åldern 0 till 5 år. Hemmet kommer att erbjuda en trygg och utvecklande miljö med daglig omvårdnad\, näringsrika måltider\, hälsoövervakning\, stimulans och lärande i tidig ålder samt skydd\, i nära samarbete med lokala myndigheter och samhällspartners. IWCH finns till för att återställa stabilitet och värdighet under ett barns mest kritiska livsskede – och ge varje liten individ bästa möjliga start och en väg mot en ljusare framtid.
URL:https://refugeroot.ca/event/ingrid-wallins-barnhem-iwch/?lang=sv
END:VEVENT
END:VCALENDAR